BEGIN:VCALENDAR
VERSION:2.0
PRODID:-//The Department of Economic Affairs, Commerce and Industry of Aruba - ECPv4.9.12//NONSGML v1.0//EN
CALSCALE:GREGORIAN
METHOD:PUBLISH
X-WR-CALNAME:The Department of Economic Affairs, Commerce and Industry of Aruba
X-ORIGINAL-URL:https://www.deaci.aw
X-WR-CALDESC:Events for The Department of Economic Affairs, Commerce and Industry of Aruba
BEGIN:VTIMEZONE
TZID:America/Aruba
BEGIN:STANDARD
TZOFFSETFROM:-0400
TZOFFSETTO:-0400
TZNAME:AST
DTSTART:20190101T000000
END:STANDARD
END:VTIMEZONE
BEGIN:VEVENT
DTSTART;VALUE=DATE:20190604
DTEND;VALUE=DATE:20190606
DTSTAMP:20191125T224406
CREATED:20190127T205613Z
LAST-MODIFIED:20190127T210254Z
UID:562-1559606400-1559779199@www.deaci.aw
SUMMARY:Global Entrepreneurship Summit 2019
DESCRIPTION:The 2019 Global Entrepreneurship Summit\, June 4-5\, in The Hague\, the Netherlands will invite the world’s most inspiring entrepreneurs innovating in Agriculture\, Connectivity\, Energy\, Health\, and Water. \nWhat GES 2019 brings you?\nGES 2019 offers an unparalleled stage for scale-ups and a chance to showcase your enterprise before a selected group of top investors\, founders\, funders\, experts and policymakers. \nShould you be at GES 2019?\n•Do you have a transformative tech solution for Agriculture\, Connectivity\, Energy\, Health\, or Water?\n•Is your innovation more than just a concept\, with a functioning\, market-ready business model?\n•Is your enterprise investor-ready and capable to be scaled up internationally?\n•Do you want to join other trailblazers to build entrepreneur-led solutions for the future\, now? \nHow this lightening application works:\nTell us in a few words who you are and what your company does and aims to do. Get us excited about the potential of your solution. We know you are busy building your organization\, so this application is short and sweet. \n1. If you want a chance to join\, apply before January 30\, 2019.\n2. We’ll let you know by March 4\, 2019 if we think you are the right fit for this year’s GES focus.\n3. If selected\, you must confirm before April 2\, 2019.\nYou don’t need to pay a registration or conference fee \nApply here for GES 2019:\nhttps://platform.younoodle.com/competition/global_entrepreneurship_summit_2019?fbclid=IwAR3mqr7LJlX2vmk3tneWhce6aNjXH0NrYOxUIR5XHaBG1nTaV0MZme-hZS0 \nBefore\, during\, and after GES 2019\, a number of affiliated events will be organised in the Netherlands\, the US and the rest of the world to maximize participation opportunities: https://www.ges2019nl.nl/latest/events \nFor more information visit: https://www.ges2019nl.nl/ or contact Giada Sabbion and Irma Tems at challenges@ges2019.nl \n \n
URL:https://www.deaci.aw/event/global-entrepreneurship-summit-2019/
CATEGORIES:Events
ATTACH;FMTTYPE=image/jpeg:https://www.deaci.aw/wp-content/uploads/2019/01/ges2019.jpg
END:VEVENT
END:VCALENDAR